BEGIN:VCALENDAR
VERSION:2.0
PRODID:-//Big Band Project Katzelsdorf - ECPv6.15.20//NONSGML v1.0//EN
CALSCALE:GREGORIAN
METHOD:PUBLISH
X-WR-CALNAME:Big Band Project Katzelsdorf
X-ORIGINAL-URL:https://www.bigbandproject.com
X-WR-CALDESC:Veranstaltungen für Big Band Project Katzelsdorf
REFRESH-INTERVAL;VALUE=DURATION:PT1H
X-Robots-Tag:noindex
X-PUBLISHED-TTL:PT1H
BEGIN:VTIMEZONE
TZID:Europe/Berlin
BEGIN:DAYLIGHT
TZOFFSETFROM:+0100
TZOFFSETTO:+0200
TZNAME:CEST
DTSTART:20250330T010000
END:DAYLIGHT
BEGIN:STANDARD
TZOFFSETFROM:+0200
TZOFFSETTO:+0100
TZNAME:CET
DTSTART:20251026T010000
END:STANDARD
BEGIN:DAYLIGHT
TZOFFSETFROM:+0100
TZOFFSETTO:+0200
TZNAME:CEST
DTSTART:20260329T010000
END:DAYLIGHT
BEGIN:STANDARD
TZOFFSETFROM:+0200
TZOFFSETTO:+0100
TZNAME:CET
DTSTART:20261025T010000
END:STANDARD
BEGIN:DAYLIGHT
TZOFFSETFROM:+0100
TZOFFSETTO:+0200
TZNAME:CEST
DTSTART:20270328T010000
END:DAYLIGHT
BEGIN:STANDARD
TZOFFSETFROM:+0200
TZOFFSETTO:+0100
TZNAME:CET
DTSTART:20271031T010000
END:STANDARD
END:VTIMEZONE
BEGIN:VEVENT
DTSTART;TZID=Europe/Berlin:20260613T193000
DTEND;TZID=Europe/Berlin:20260613T213000
DTSTAMP:20260424T112453
CREATED:20260420T102722Z
LAST-MODIFIED:20260420T102722Z
UID:1650-1781379000-1781386200@www.bigbandproject.com
SUMMARY:Film- &TV Hits
DESCRIPTION:🎬 Film ab und Bühne frei: Eine Sommernacht voller Hollywood-Glanz!\nErleben Sie einen unvergesslichen Abend vor der traumhaften Kulisse von Schloss Katzelsdorf. Das Big Band Project Katzelsdorf lädt Sie zu einer musikalischen Zeitreise durch die größten Film- & TV-Hits ein. \nGenießen Sie satten Big-Band-Sound unter freiem Himmel – von den glamourösen Melodien der goldenen Ära bis hin zu modernen Kult-Soundtracks. Packende Rhythmen\, brillante Bläsersätze und eine einzigartige Atmosphäre warten auf Sie! \nDie Eckdaten zum Event: \n\n\nWANN: Samstag\, 13. Juni 2026 \n\n\nBEGINN: 19:30 Uhr \n\n\nWO: Schloss Katzelsdorf (Open Air) \n\n\nTickets & Reservierung: \nSichern Sie sich Ihre Plätze rechtzeitig für dieses sommerliche Highlight: \n\n\nVorverkauf: € 26\,- \n\n\nAbendkasse: € 28\,- \n\n\nTelefonische Reservierung: +43 26 22 78 080 \n\n\nOnline: schloss-katzelsdorf.reservix.at \n\n\nHolen Sie sich den Glanz der Leinwand direkt in den Schlosshof. Wir freuen uns auf Ihr Kommen!
URL:https://www.bigbandproject.com/event/film-tv-hits/
LOCATION:Schloss Katzelsdorf
END:VEVENT
END:VCALENDAR